BEGIN:VCALENDAR
VERSION:2.0
PRODID:-//TYPO3/WES Cal (wes_cal)//DE
METHOD:PUBLISH
BEGIN:VEVENT
UID:https://kalender.friedrichshafen.de_42360
DTSTAMP:20260422T214526
DTSTART:20260425T103000
DTEND:20260425T120000
CATEGORIES:Führungen,Führungen
SUMMARY:Wie funktioniert eigentlich eine Orgel? Orgelführung für Familien 
DESCRIPTION:Nicht nur der Klang der Orgel ist ein Phänomen. Auch ihr Aufbau und ihre Funktionsweise sind faszinierend. Vom Wind zum Ton, von der Taste zur Pfeife ist ein spannender Weg. Warum heißt sie „die Königin der Instrumente“? Welche Klangfarben hat sie? Was ist ihre Bedeutung in Kirche und Gottesdienst? \r\nNikolai Gersak ist Dekanatskirchenmusiker, Kantor und Organist in St. Nikolaus Friedrichshafen.\r\nhttps://www.keb-fn.de/kurse/kurs/Wie-funktioniert-eigentlich-eine-Orgel-Orgelfuehrung-fuer-Familien/260425 
LOCATION:St. Petrus Canisius, 88045 Friedrichshafen
END:VEVENT
END:VCALENDAR