BEGIN:VCALENDAR
VERSION:2.0
PRODID:-//TYPO3/WES Cal (wes_cal)//DE
METHOD:PUBLISH
BEGIN:VEVENT
UID:https://kalender.friedrichshafen.de_38752
DTSTAMP:20260425T215739
DTSTART:20260715T180000
DTEND:20260715T220000
CATEGORIES:Sport & Freizeit,Messe Friedrichshafen,Sport & Freizeit,Messe
SUMMARY:wenglor Firmenlauf Friedrichshafen 
DESCRIPTION:Auf die Plätze, fertig, bald geht’s los!\r\nSichert euch schon jetzt den Termin im Kalender und seid dabei, wenn tausende Läuferinnen und Läufer aus zahlreichen Unternehmen der Region gemeinsam ein Zeichen für Teamgeist, Bewegung und gute Stimmung setzen.\r\nFreut euch auf:\r\neine stimmungsvolle 5 km-LaufstreckeTeamgeist, Motivation und jede Menge SpaßAfter-Run-Party mit einzigartiger Atmosphäreperfekte Gelegenheit zum Netzwerken und Feiern mit euren Kollegen und Kolleginnen\r\nwenglor ist neuer Titelsponsor des Firmenlauf Friedrichshafen Mit dem Tettnanger Unternehmen wenglor sensoric steht 2026 erstmals ein neuer Titelsponsor an der Seite des Firmenlauf Friedrichshafen: „Wir freuen uns sehr, mit unserer neuen Rolle als Titelsponsor des Firmenlaufs Friedrichshafen ein starkes Zeichen zu setzen. Denn der Firmenlauf steht für Werte, die wenglor seit jeher prägen – Teamgeist, Zusammenhalt und Begeisterung für gemeinsame Ziele“, sagt Fabian Baur, Geschäftsführer der wenglor sensoric group. „Seit vielen Jahren nehmen wir mit unseren Mitarbeitenden mit großer Freude an diesem besonderen Event teil. Umso stolzer sind wir, nun als Titelsponsor unseren Namen mit einer Veranstaltung zu verbinden, die Gemeinschaft, sportliches Engagement und Miteinander in den Mittelpunkt stellt“, betont Rafael Baur, Geschäftsführer der wenglor sensoric group.\r\nDer wenglor Firmenlauf Friedrichshafen ist der stimmungsvolle und sportliche Feierabend für Unternehmen, Institutionen und Organisationen aus der Region. Teambuilding, Sportgeist und Party stehen am Firmenlauf-Abend im Mittelpunkt. Die Teilnehmenden und das Publikum erwartet ein abwechslungsreicher Abend mit attraktivem 5 km-Rundkurs mit Start und Ziel an der Neuen Messe. Im Anschluss wird bei Live-Musik und Catering-Angeboten zusammen gefeiert und bei der Siegerehrung diverse Team-Wertungen prämiert. Seid dabei: ob Solo-Unternehmer:in, Handwerksbetrieb oder Großkonzern - der wenglor Firmenlauf Friedrichshafen ist ein Team-Erlebnis der besonderen Art!\r\nDie Anmeldung ist ab Frühjahr 2026 über die Website des Veranstalters möglich:https://firmenlauf-fn.de/
LOCATION:Messe Friedrichshafen GmbH, 88046 Friedrichshafen
END:VEVENT
END:VCALENDAR