BEGIN:VCALENDAR
VERSION:2.0
PRODID:-//TYPO3/WES Cal (wes_cal)//DE
METHOD:PUBLISH
BEGIN:VEVENT
UID:https://kalender.friedrichshafen.de_42424
DTSTAMP:20260425T193223
DTSTART:20261203T160000
DTEND:20261206T200000
CATEGORIES:Genuss,Jahreshighlights,Märkte,Jahreshighlights,Feste, Festivals & Märkte,Genuss
SUMMARY:Weihnachtsmarkt: Advent im Schlosshof Friedrichshafen 
DESCRIPTION:Kleiner, aber feiner Weihnachtsmarkt in gemütlicher Atmosphäre am offenen Feuer mit hausgemachtem Glühwein und regionalen Speisen.\r\n\r\n\r\nGenießen Sie die vorweihnachtliche Atmosphäre rund um das flackernde Feuer im Schlosshof unserer Vinothek Friedrichshafen. Von 16 bis 20 Uhr bieten wir Ihnen im stimmungsvoll illuminierten Schlosshof die Gelegenheit, sich mit Freunden, Kollegen, Familie zu treffen und würzigen Winzerglühwein, saftigen Wildburgern, feurigen Grillwürsten oder knusprigen Flammkuchen aus dem Ofen zu genießen. \r\nIn unserer Vinothek finden Sie feine Weine für das Weihnachtsfest, prickelnden Sekt für die Silvesterparty und für jede andere Party natürlich auch. Während des Adventsmarkts ist unsere Vinothek bis 20 Uhr geöffnet, hier finden Sie alle Weine, die Sie verschenken oder doch lieber selber genießen möchten.\r\n\r\n
LOCATION:Schlosskirche, 88045 Friedrichshafen
ATTACH:https://kalender.friedrichshafen.de/fileadmin/BENUTZERDATEN/friedrichshafen.de/Veranstaltungen/Advent_im_Schloss_Weihnachtsmarkt_Vinothek_Engel___Weingut_Hofkammer_W%C3%BCrttemberg__8_.jpg
END:VEVENT
END:VCALENDAR