BEGIN:VCALENDAR
VERSION:2.0
PRODID:-//TYPO3/WES Cal (wes_cal)//DE
METHOD:PUBLISH
BEGIN:VEVENT
UID:https://kalender.friedrichshafen.de_42394
DTSTAMP:20260424T105658
DTSTART:20260520T190000
CATEGORIES:Ausstellungen & Vorträge,Gestaltungsbeirat,Ausstellungen & Vorträge,Bürger & Politik,Sitzungen
SUMMARY:Vortragsreihe „Standpunkte“: Drawing on the existing
DESCRIPTION:Im Rahmen der Vortragsreihe „Standpunkte“ des Gestaltungsbeirates Friedrichshafen hält Prof. Amandus Samsøe Sattler am Mittwoch, 20. Mai, 19 Uhr im Alfred-Colsman-Saal des Graf-Zeppelin-Hauses einen Vortrag mit dem Titel „Drawing on the existing“.\r\nProf. Amandus Samsøe Sattler setzt sich in seiner Arbeit mit der Zukunft des Bauens, der Wechselwirkung zwischen Architektur und Gesellschaft sowie der Verantwortung für Ästhetik und Nachhaltigkeit auseinander. Im Studio arbeitet er mit anderen Planern zusammen. Das erlaubt konsequent Nachhaltigkeit im städtischen Kontext, vor allem im Bestand, mit weiterverwendeten und nachwachsenden Materialien zu entwickeln.\r\nDer Vortrag „Drawing on the existing“ von Prof. Amandus Samsøe Sattler ist Teil der Veranstaltungsreihe „Standpunkte“ des Gestaltungsbeirates Friedrichshafen. Er findet am Mittwoch, 20. Mai, 19 Uhr im Alfred-Colsman-Saal des Graf-Zeppelin-Hauses statt. Der Eintritt ist kostenlos. Der Einlass beginnt um 18.30 Uhr.\r\nDie Anerkennung der Veranstaltung für die Architektenkammer Baden-Württemberg als Fortbildung ist beantragt. Sie wird gefördert durch das Ministerium für Landesentwicklung und Wohnen Baden-Württemberg.\r\nÜber Prof. Amandus Samsøe Sattler\r\nAmandus Samsøe Sattler hat sein Diplom an der Technischen Universität München absolviert und ist Gründer von Allmann Sattler Wappner Architekten. Er gründete 2021 mit Prof. Mikala Holme Samsøe ‚ensømble‘ Studio Architektur in Berlin. Im gleichen Jahr wurde er Professor für Architektur und Stadt an der Internationalen Hochschule Berlin. Seit 2020 ist er im Ehrenamt Präsident der Deutschen Gesellschaft nachhaltiges Bauen DGNB e. V. und im Vorstand des Fördervereins Bundesstiftung Baukultur tätig. Er ist Mitglied im Gestaltungsbeirat der Stadt Friedrichshafen und Mainz (Vorsitz) und des Gesamtvorstands DG-Kunstraum. Als Teil der interdisziplinären Arbeitsgruppe „Anders Bauen für Ressourcen- und Klimaschutz“ (Berlin-Brandenburgische Akademie der Wissenschaften) forscht er zu den Hindernissen des nachhaltigen Bauens. Seit 2024 ist er Fachbeirat der Prä-IBA-Impulsregion Leipzig. \r\nSeine Lehrtätigkeit begann mit dem Lehrauftrag an der Akademie der Bildenden Künste München 2005 bis 2015. 2007 nahm er an der Semaine Internationale in der École Nationale Supérieure d‘Architecture Nancy, Frankreich teil. Von 2009 bis 2013 erhielt er eine Vertretungsprofessur an der Fakultät Architektur, der TH Köln. Wiederholt übernimmt er Lehraufträge an der Hochschule Augsburg. \r\nEr verfasst zahlreiche Publikationen, hält internationale Vorträge und ist als Fachpreisrichter tätig. Als Fotograf gestaltet er ein künstlerisches Werk, in dem er seine Leidenschaft für die Mysterien der Normalität dokumentiert.
LOCATION:Graf-Zeppelin-Haus, 88045 Friedrichshafen
END:VEVENT
END:VCALENDAR