BEGIN:VCALENDAR
VERSION:2.0
PRODID:-//TYPO3/WES Cal (wes_cal)//DE
METHOD:PUBLISH
BEGIN:VEVENT
UID:https://kalender.friedrichshafen.de_38513
DTSTAMP:20260425T024552
DTSTART:20261107T193000
CATEGORIES:Kinder & Familie,Theater & Tanz,Kinder & Familie,Schauspiel & Theater
SUMMARY:Theater Bühne FN 5: Premiere
DESCRIPTION:Die Bühne FN 5 lädt herzlich zur Theater Premiere ein.
LOCATION:Gemeindehaus Berg, 88048 Friedrichshafen
END:VEVENT
END:VCALENDAR