BEGIN:VCALENDAR
VERSION:2.0
PRODID:-//TYPO3/WES Cal (wes_cal)//DE
METHOD:PUBLISH
BEGIN:VEVENT
UID:https://kalender.friedrichshafen.de_38516
DTSTAMP:20260425T040326
DTSTART:20261115T163000
CATEGORIES:Kinder & Familie,Theater & Tanz,Kinder & Familie,Schauspiel & Theater
SUMMARY:Theater Bühne FN 5: 4. Aufführung
DESCRIPTION:Die Bühne FN 5 lädt herzlich zur 4. Aufführung ein.
LOCATION:Gemeindehaus Berg, 88048 Friedrichshafen
END:VEVENT
END:VCALENDAR