BEGIN:VCALENDAR
VERSION:2.0
PRODID:-//TYPO3/WES Cal (wes_cal)//DE
METHOD:PUBLISH
BEGIN:VEVENT
UID:https://kalender.friedrichshafen.de_32366
DTSTAMP:20260425T203522
DTSTART:20260616T000000
CATEGORIES:Sport & Freizeit,Feste & Festivals,Jahreshighlights,Sport & Freizeit,VfB Volleyball,Feste, Festivals & Märkte,Sport & Freizeit,Jahreshighlights
SUMMARY:Stadtwerk am See: Friedrichshafen Beach
DESCRIPTION:“Friedrichshafen Beach” - das große SPORT FESTIVAL vom 16.-21.06.2026 am Gondelhafen der Strandpromenade. Zusammen mit Vfb Friedrichshafen, dem Volleyball Landesverband Württemberg und der health&sports solutions Dr. Helge Rupprich GmbH bringen wir Sommer, Sonne und Sand in die Stadt. Dabei trifft Spitzensport auf Breitensport. \r\n\r\nIn diesem Jahr werden wir wieder Beachsoccer, Beachbasketball und Beachvolleyball für Firmenteams, Breiten-, Leistungs- & Freizeitsportler:innen anbieten. Auf geht´s - seid Teil der großen Sportwoche. Sichert euch einen der begehrten Startplätze bei unseren Turnieren und im Schulsportprogramm. In diesem Jahr werden wir euch folgende Kategorien anbieten: Basketball, Beachsoccer und Beachvolleyball. \r\nAb dem 13.04 könnt ihr euch anmelden. Weitere Informationen und Anmeldung findet ihr unter www.friedrichshafen-beach.de 
LOCATION:Gondelhafen, 88045 Friedrichshafen
ATTACH:https://kalender.friedrichshafen.de/fileadmin/BENUTZERDATEN/friedrichshafen.de/Veranstaltungen/beachvolleyball__2_.jpg
END:VEVENT
END:VCALENDAR