BEGIN:VCALENDAR
VERSION:2.0
PRODID:-//TYPO3/WES Cal (wes_cal)//DE
METHOD:PUBLISH
BEGIN:VEVENT
UID:https://kalender.friedrichshafen.de_42354
DTSTAMP:20260425T193511
DTSTART:20260504T150000
DTEND:20260504T163000
CATEGORIES:Ausstellungen & Vorträge,Senioren,Ausstellungen & Vorträge,Bürger & Politik,Quartier Hei-Hei,Senioren,Bürger & Politik
SUMMARY:Präventionsveranstaltung zum Thema „Enkeltrick, Schockanrufe & Co.“
DESCRIPTION:Es gibt zahlreiche Bereiche, in denen ältere aber auch jüngere Menschen Risiken durch Betrüger ausgesetzt sind. Oftmals dort, wo sie so etwas gar nicht erwarten: an der Haus- oder Wohnungstüre, in der eigenen Wohnung, am Telefon oder im Internet. Polizeioberkommissar Achim Kruzinski vom Polizeipräsidium Ravensburg gibt am Montag, 4. Mai, 15 bis 16.30 Uhr im Treff 22 in der Heinrich-Heine-Straße 22, Tipps, wie man sich davor schützen kann.\r\nAchim Kruszinski kennt die Vorgehensweise von Trickbetrügern. Beispielsweise bekommt man eine WhatsApp-Nachricht, in der ein vermeintlicher Verwandter um Hilfe bittet. In der Nachricht wird dem Empfänger vorgegaukelt, dass telefonieren noch nicht geht – aber ja weitergeschrieben werden kann. Im Verlauf wird dann um Bargeld gebeten.\r\nAber was tun, wenn ein Schockanruf kommt? Die Trickbetrüger sind Profis und ziehen ihr Opfer mit einer Geschichte in ihren Bann. Die Emotionen machen dann den Rest. Umso wichtiger ist es, die Menschen über solche Maschen und Trickbetrüger aufzuklären und ihnen zu zeigen, wie sie sich schützen können. \r\nWer sich über mögliche Betrugsmaschen informieren und zur Veranstaltung im Treff 22 kommen möchte, sollte sich bis Sonntag, 26. April telefonisch oder per WhatsApp 0160 977 83170 oder per E-Mail v.arnreich@friedrichshafen.de anmelden. Die Veranstaltung ist kostenlos.
LOCATION:Familientreff  Treff 22, 88045 Friedrichshafen
END:VEVENT
END:VCALENDAR