BEGIN:VCALENDAR
VERSION:2.0
PRODID:-//TYPO3/WES Cal (wes_cal)//DE
METHOD:PUBLISH
BEGIN:VEVENT
UID:https://kalender.friedrichshafen.de_42304
DTSTAMP:20260420T121522
DTSTART:20260613T200000
CATEGORIES:Musik,Senioren,Tanz,Musik,Senioren,Tanz
SUMMARY:Oldie-Party mit DJ 6tyfour
DESCRIPTION:"Let‘s have a Dance-Party tonight!“, ruft DJ 6tyfour.\r\nNach dem Riesen-Erfolg der letzten Parties, gibt es auch diesmal wieder Hits satt aus vier Jahrzehnten auf die Ohren . DJ 6tyfour, alias Wolfgang Aich, legt ab 20 Uhr im Kulturraum Casino heiße Scheiben auf. Hier zählt die Musik, nicht das Alter der Gäste. Tanzspaß für alle!\r\nBesucher*innen dürfen sich auf Hits und Evergreens aus den 50er bis 80er Jahren freuen. Für DJ 6tyfour ist der Name Programm. Er legt Oldies in den Originalversionen auf und ist glücklich, wenn sich das Publikum genau wie er über Wanda Jackson, Beatles, The Cordettes oder auch Manfred Mann, Abba, Kool & The Gang und vieles mehr von „damals“ freut.\r\nSein Repertoire umfasst Schlager, NDW, Rock und als Hobby-Boogie-Tänzer legt er sehr gerne auch Boogie-Woogie und Rock’n’Roll auf. Also genau die Musik, zu der früher Party gemacht wurde. DJ 6tyfour spielt die Songs in Originalversionen. „Keine Bumm-Bumm-Überblendungen und kein Scratching“, betont er.
LOCATION:Kulturraum Casino im Kulturhaus Caserne, 88045 Friedrichshafen
ATTACH:https://kalender.friedrichshafen.de/fileadmin/BENUTZERDATEN/friedrichshafen.de/Veranstaltungen/Kulturhaus_Caserne/25_05_16_Oldie_Party_DJ_6tyfour_aktuell.jpg
ATTACH:https://kalender.friedrichshafen.de/fileadmin/BENUTZERDATEN/friedrichshafen.de/Veranstaltungen/Kulturhaus_Caserne/Wiederkehrende_Bilder/VA_Kalender_FN_logo_caserne.jpg
END:VEVENT
END:VCALENDAR