BEGIN:VCALENDAR
VERSION:2.0
PRODID:-//TYPO3/WES Cal (wes_cal)//DE
METHOD:PUBLISH
BEGIN:VEVENT
UID:https://kalender.friedrichshafen.de_42376
DTSTAMP:20260421T141006
DTSTART:20260421T174500
CATEGORIES:Ausstellungen & Vorträge,Bürger & Politik,Ausstellungen & Vorträge,Bürger & Politik
SUMMARY:Komm ins Häfler Ehrenamts-Team – Infoveranstaltung & Vortrag
DESCRIPTION:Mit dem neuen Häfler Ehrenamts-Team will die Stadt Friedrichshafen einen Pool an Helferinnen und Helfern für verschiedenste Kurzeinsätze aufbauen – zum Beispiel für Müllsammel-, Pflanz- und Bastelaktionen, Unterstützung beim Bestuhlen und für vieles mehr. \r\nDas Motto „Engagiert für Deine Stadt. Komm ins Ehrenamts-Team.“ ist Programm: Mitmachen kann jede Häflerin und jeder Häfler ab 18 Jahren – von Studentinnen und Studenten über Berufstätige bis hin zu Seniorinnen und Senioren. Das Ehrenamts-Team richtet sich an alle, die sich nicht regelmäßig engagieren können, aber ab und zu bei unterschiedlichen Einsätzen mithelfen möchten – unkompliziert und ungebunden. Das gemeinsame Engagement für die Stadt und die Bewohnerinnen und Bewohner soll zudem das Wir-Gefühl und die Engagement-Kultur in Friedrichshafen stärken.\r\nFinanziert wird der Aufbau des neuen Ehrenamts-Teams in Friedrichshafen durch das Ministerium für Soziales, Gesundheit und Integration aus Landesmitteln, die der Landtag von Baden-Württemberg beschlossen hat.\r\nBei der Infoveranstaltung am Dienstag, 21. April, 17.45 Uhr im Vortragssaal der vhs Friedrichshafen werden das Projekt und die Idee dahinter vorgestellt. Mit einem praxisnahen Vortrag zum Thema „Begeistere dich selbst – und dann deine Stadt. Was du gewinnst, wenn du gibst – und warum beides zusammengehört.“ wird Sabine Jung-Baß, Coach und Moderatorin, zu Beginn auf das Thema einstimmen.\r\nUm Anmeldung wird zur besseren Planbarkeit gebeten. Auch spontane Gäste sind herzlich willkommen.
LOCATION:vhs Friedrichshafen, 88045 Friedrichshafen
ATTACH:https://kalender.friedrichshafen.de/fileadmin/BENUTZERDATEN/friedrichshafen.de/Statische_Seiten/Seiten/Buerger_und_Stadt/Ehrenamts-Team_Karte_Infoveranstaltung_Seite1.jpg
END:VEVENT
END:VCALENDAR