BEGIN:VCALENDAR
VERSION:2.0
PRODID:-//TYPO3/WES Cal (wes_cal)//DE
METHOD:PUBLISH
BEGIN:VEVENT
UID:https://kalender.friedrichshafen.de_40384
DTSTAMP:20260421T164748
DTSTART:20260510T110000
DTEND:20260510T170000
CATEGORIES:Ausstellungen & Vorträge,Feste, Festivals & Märkte,Führungen,Jahreshighlights,Kinder & Familie,Führungen,Tag der offenen Tür,Vorträge,Workshops,Open Air,Frühling,Führungen,Themenführungen,Jahreshighlights,Kinder & Familie
SUMMARY:Museums- und Gartenfest im Schulmuseum
DESCRIPTION:Ein besonderer Tipp zum Muttertag am Sonntag, 10. Mai: Beim traditionellen Museums- und Gartenfest ist von 11 bis 17 Uhr wieder einiges los im Schulmuseum und im anliegenden Museumsgarten! \r\nLivemusik von “Beasts of Soden”, Leckeres vom Foodtruck Der KochBengel, Bastelstationen, Fotostationen im Garten, Kaffee und Kuchen sowie frischgebackene Waffeln von der K1 des KMG, Kostümführungen mit "Fräulein Lehrerin" und “Hausmeister Träge”, zwei Lesungen mit Lesemöwe Frieda und vieles mehr … ein wunderbares Fest und Ausflugsziel für Familien und alle Generationen. 
LOCATION:Schulmuseum, 88045 Friedrichshafen
ATTACH:https://kalender.friedrichshafen.de/fileadmin/BENUTZERDATEN/Schulmuseum/Veranstaltungen/17-05-21_Museumsfest_Schulmuseum___85_.JPG
ATTACH:https://kalender.friedrichshafen.de/fileadmin/BENUTZERDATEN/Schulmuseum/Veranstaltungen/18-11-04_Tag_der_offenen_T%C3%BCr_Copyright_Schulmuseum_Friedrichshafen__109_.JPG
ATTACH:https://kalender.friedrichshafen.de/fileadmin/BENUTZERDATEN/Schulmuseum/Veranstaltungen/Museumsfest_2023__36_.JPG
ATTACH:https://kalender.friedrichshafen.de/fileadmin/BENUTZERDATEN/Schulmuseum/Veranstaltungen/Hausmeister_Hugo_Tr%C3%A4ge_Kost%C3%BCmf%C3%BChrung_copyr_Schulmuseum_.JPG
ATTACH:https://kalender.friedrichshafen.de/fileadmin/BENUTZERDATEN/Schulmuseum/Veranstaltungen/Museums-_und_Gartenfest_2024__89_.JPG
END:VEVENT
END:VCALENDAR