BEGIN:VCALENDAR
VERSION:2.0
PRODID:-//TYPO3/WES Cal (wes_cal)//DE
METHOD:PUBLISH
BEGIN:VEVENT
UID:https://kalender.friedrichshafen.de_42380
DTSTAMP:20260425T204759
DTSTART:20260425T150000
CATEGORIES:Feste & Festivals,Kinder & Familie,Feste, Festivals & Märkte,Kinder & Familie
SUMMARY:KulturCampus 2026 – Workshop: Naturwerkstatt mit Brigitte Meßmer
DESCRIPTION:In der Naturwerkstatt gestalten wir mit Pappmaché, Holz, Wurzeln und Zweigen fantasievolle Wesen.Mit Brigitte Meßmer & TeamAb 8 Jahre | Bitte reservieren Sie verbindlich Ihre Teilnahme.\r\nWeiterer Workshop für Kinder: Waldgeister erleben 
LOCATION:Werkstatt im Kulturhaus Caserne, 88045 Friedrichshafen
ATTACH:https://kalender.friedrichshafen.de/fileadmin/BENUTZERDATEN/friedrichshafen.de/Veranstaltungen/Kulturhaus_Caserne/26_04_25_naturwerkstatt_brigitte_1_.jpg
ATTACH:https://kalender.friedrichshafen.de/fileadmin/BENUTZERDATEN/friedrichshafen.de/Veranstaltungen/Kulturhaus_Caserne/Wiederkehrende_Bilder/VA_Kalender_FN_logo_caserne.jpg
END:VEVENT
END:VCALENDAR