BEGIN:VCALENDAR
VERSION:2.0
PRODID:-//TYPO3/WES Cal (wes_cal)//DE
METHOD:PUBLISH
BEGIN:VEVENT
UID:https://kalender.friedrichshafen.de_42384
DTSTAMP:20260421T164623
DTSTART:20260825T140000
DTEND:20260825T150000
CATEGORIES:Ferienprogramm,Führungen,Ferienprogramm,Führungen,Themenführungen,Kinder & Familie,Kinder & Familie,Führungen,Ferienprogramm
SUMMARY:Kostümführung: Fräulein Elise - Lehrerin in der Dorfschule um 1850
DESCRIPTION:Lehrerinnen waren um 1850 noch eine echte Seltenheit - aufgrund gesellschaftlicher Normen, männlicher Vorurteile und der Gesetzgebung. Das Lehrerinnenzölibat, also die Ehelosigkeit von “Fräulein Elise”, ist dafür bestes Beispiel.\r\nMuseumsführerin Barbara Fricker-Tuzlu gibt, ganz im strengen schwarzen Kostüm der damaligen Zeit, lehrreiche und spannende Einblicke in das damalige Schulleben. \r\nDie Kostümführung dauert ca. 60 Minuten. Führungsgebühr 3 € (zzgl. Museumseintritt). Da die Teilnehmerzahl begrenzt ist, empfiehlt sich eine Anmeldung. 
LOCATION:Schulmuseum, 88045 Friedrichshafen
ATTACH:https://kalender.friedrichshafen.de/fileadmin/BENUTZERDATEN/Schulmuseum/Veranstaltungen/Fr%C3%A4ulein_Elise_copyr_Schulmuseum_FN__4_.jpg
END:VEVENT
END:VCALENDAR