BEGIN:VCALENDAR
VERSION:2.0
PRODID:-//TYPO3/WES Cal (wes_cal)//DE
METHOD:PUBLISH
BEGIN:VEVENT
UID:https://kalender.friedrichshafen.de_42383
DTSTAMP:20260421T164759
DTSTART:20260804T140000
DTEND:20260804T150000
CATEGORIES:Ferienprogramm,Führungen,Ferienprogramm,Führungen,Themenführungen,Kinder & Familie,Kinder & Familie,Führungen,Ferienprogramm
SUMMARY:Kostümführung: Bäuerin Hedwig - das Leben im Mittelalter
DESCRIPTION:Museumsführerin Margarete Zinser lädt ein zur Zeitreise in das dörfliche Leben im Mittelalter. Verkleidet als Bäuerin von damals erzählt sie, wie arbeitsintensiv das Leben war. Sie zeigt aber auch, welch umfassendes Pflanzen- und Handwerkswissen man seinerzeit besaß. Anhand zahlreicher Materialien und im authentischen mittelalterlichen Kostüm zeichnet sie so ein lebendiges Bild vom Leben im Mittelalter.\r\nDie Führung dauert ca. 60. Minuten. Kosten: Erwachsene 3 €, Kinder ab 6 Jahre 1 € (zzgl. Eintritt). Da die Teilnehmerzahl begrenzt ist, empfiehlt sich eine Anmeldung.  
LOCATION:Schulmuseum, 88045 Friedrichshafen
ATTACH:https://kalender.friedrichshafen.de/fileadmin/BENUTZERDATEN/Schulmuseum/Veranstaltungen/Kost%C3%BCmf%C3%BChrung_B%C3%A4uerin_Hedwig_Copyright_Schulmuseum__1_.jpg
END:VEVENT
END:VCALENDAR