BEGIN:VCALENDAR
VERSION:2.0
PRODID:-//TYPO3/WES Cal (wes_cal)//DE
METHOD:PUBLISH
BEGIN:VEVENT
UID:https://kalender.friedrichshafen.de_41033
DTSTAMP:20260424T105533
DTSTART:20270403T200000
CATEGORIES:Musik,Musik
SUMMARY:Konzert – Symphonika "Rock Legends In Symphony"
DESCRIPTION:Rock Legends In Symphony performed by Symphonika startet eine aufwendig produzierte Konzertshow, in der Klassik und Moderne direkt aufeinandertreffen. Eine 5-köpfige Live-Band spielt mit einem 20-köpfigen Orchester unter Leitung eines Dirigenten. Licht, Laser, LED-Wände und Projektionen setzen das Ganze in Szene. So entsteht ein Konzertabend, der die großen Hymnen der Rockgeschichte in frischen, orchestralen Arrangements zeigt – nah dran, druckvoll und mit klarer musikalischer Linie.Queen, Pink Floyd, Europe, The Beatles, Scorpions, Deep Purple, Led Zeppelin, Guns N’ Roses, The Rolling Stones u. a. prägen das Programm. Die Songs bekommen eine zusätzliche sinfonische Ebene und entfalten live eine neue Wirkung – akustisch wie visuell. Neben temporeichen Höhepunkten sorgen reduzierte Akustik-Passagen für bewusst gesetzte Kontraste, die die Emotionalität der Musik unterstreichen.Als Special Guests treten die besten Doubles der ikonischen Frontfiguren auf: Axl Rose & Slash (Guns N’ Roses), Freddie Mercury (Queen) sowie Brian Johnson & Angus Young (AC/DC). Sie agieren im Zusammenspiel mit Band und Orchester und liefern authentische Momente – ohne den Charakter eines Konzertabends zu verlassen. Präzise Arrangements, ein klarer Bandsound und eine filmische Visualität formen die Atmosphäre, in der Rockgeschichte lebendig wird.\r\n(Quelle: Auszug aus dem Pressetext)
LOCATION:Graf-Zeppelin-Haus, 88045 Friedrichshafen
ATTACH:https://kalender.friedrichshafen.de/fileadmin/BENUTZERDATEN/friedrichshafen.de/Veranstaltungen_GZH/2027/2027_04/Rock-Ledgends-in-Symphony_-_Fotograf_Simon_Dediluca.jpg
END:VEVENT
END:VCALENDAR