BEGIN:VCALENDAR
VERSION:2.0
PRODID:-//TYPO3/WES Cal (wes_cal)//DE
METHOD:PUBLISH
BEGIN:VEVENT
UID:https://kalender.friedrichshafen.de_41034
DTSTAMP:20260424T105428
DTSTART:20261020T193000
CATEGORIES:Literatur,Musik,Musik,Literatur
SUMMARY:Konzert – Storytelling Piano
DESCRIPTION:Storytelling Piano – NEUES PROGRAMM\r\nZUSATZTERMIN aufgrund großer Nachfrage! Nach einer restlos ausverkauften Konzertsaison 2024/25 mit über 50.000 Gästen kommt Dennis Alexander Volk erneut nach Friedrichshafen!\r\nDennis spielt mit Inspiration und Leidenschaft Klaviermusik zum Entspannen, bei sich selbst Ankommen und das Leben Zelebrieren.\r\nDauer ca. 130 min. inkl. Pause.\r\nDennis berührt die Herzen der Zuhörer mit seiner heilsamen Musik und regt mit Impulsen aus seinem Buch "Storytelling Piano" dazu an, das Leben neu zu entdecken.\r\nEin Buch, das auch Dein Leben bereichern wird! \r\nGenieße einen Abend voller Emotion, Inspiration und Energie – und sichere dir jetzt dein Ticket für einen ganz persönlichen Konzertabend. Wir freuen uns auf Dich![Quelle: Text des Veranstalters]
LOCATION:Graf-Zeppelin-Haus, 88045 Friedrichshafen
ATTACH:https://kalender.friedrichshafen.de/fileadmin/BENUTZERDATEN/friedrichshafen.de/Veranstaltungen_GZH/2026/2026_03/2026_03_27_Storytelling_Piano_zVg_red.png
END:VEVENT
END:VCALENDAR