BEGIN:VCALENDAR
VERSION:2.0
PRODID:-//TYPO3/WES Cal (wes_cal)//DE
METHOD:PUBLISH
BEGIN:VEVENT
UID:https://kalender.friedrichshafen.de_42362
DTSTAMP:20260425T193421
DTSTART:20260521T150000
DTEND:20260521T170000
CATEGORIES:Quartier Hei-Hei,Sonstiges,Sonstiges
SUMMARY:Frühlings-Putzete im Quartier Heinrich-Heine
DESCRIPTION:Am Donnerstag, 21. Mai heißt es: Gemeinsam anpacken und aufräumen. Bei der Frühlings-Putzete sind alle Bürgerinnen und Bürger eingeladen, ihr Quartier wieder auf Vordermann zu bringen. Treffpunkt ist um 15 Uhr vor dem Familientreff in der Heinrich-Heine-Straße 22 – jede helfende Hand wird gebraucht.\r\nVon 15 bis 16 Uhr wird gemeinsam Müll, Zigarettenstummel und anderer Unrat eingesammelt. Mit der Aktion wollen die Organisatoren nicht nur für mehr Sauberkeit sorgen, sondern auch Kindern und Jugendlichen ein gutes Beispiel geben und ein klares Zeichen gegen Müll im Stadtteil setzen.\r\nDas Quartiersteam hofft auf viele engagierte Helferinnen und Helfer, die sich für ihr Wohnumfeld stark machen. Handschuhe und Greifzangen werden gestellt.\r\nUnd weil sich Einsatz lohnen soll, gibt es im Anschluss um 16 Uhr vor dem Familientreff ein gemütliches Beisammensein mit Pizza für alle fleißigen Müllsammlerinnen und Müllsammler.\r\nFür Fragen und Infos steht Vanessa Arnreich telefonisch unter der Mobilnummer 0160 977 831 70 oder per E-Mail v.arnreich@friedrichshafen.de gerne zur Verfügung.
LOCATION:Quartiersbüro Hei-Hei, 88045 Friedrichshafen
END:VEVENT
END:VCALENDAR