BEGIN:VCALENDAR
VERSION:2.0
PRODID:-//TYPO3/WES Cal (wes_cal)//DE
METHOD:PUBLISH
BEGIN:VEVENT
UID:https://kalender.friedrichshafen.de_42347
DTSTAMP:20260423T162819
DTSTART:20260420T000000
CATEGORIES:Kinder & Familie,Literatur,Quartier Hei-Hei,Kinder & Familie,Literatur
SUMMARY:Familientreff TREFF 22: Aktionswoche „Vorlesen“ 
DESCRIPTION:Aktionswoche „Vorlesen“ im Familientreff TREFF 22 vom 20. bis 24. AprilRund um den Welttag des Buches  am 23. April lädt der Familientreff TREFF 22 in der Heinrich-Heine-Straße 22 in Friedrichshafen zu einer Aktionswoche unter dem Motto „Vorlesen“ ein. Vom 20. bis 24. April 2026 erwartet Familien mit Kindern im Alter von ein bis sechs Jahren ein abwechslungsreiches Programm, das die Bedeutung des Vorlesens in den Mittelpunkt stellt. \r\nIn den regulären Gruppenangeboten sowie bei zusätzlichen Vorleseterminen erhalten Eltern praktische Tipps zum Vorlesen und wertvolle Informationen zur frühkindlichen Sprach- und Entwicklungsförderung. Gleichzeitig wird für die Kinder die bekannte Geschichte „Die kleine Raupe Nimmersatt“ auf kreative Weise erlebbar gemacht. Die Aktionswoche bietet zudem Gelegenheit zum Austausch zwischen Familien sowie mit den Fachkräften des Familientreffs.\r\nTermine im Überblick\r\nMontag, 20. April von 9 bis 10:30 Uhr: Integrationstreff für Familien aus verschiedenen KulturenMontag, 20. April von 15.30 bis 17 Uhr: Vorlesenachmittag für neue FamilienDienstag, 21. April von 9 bis 11 Uhr: Babytreff ab KrabbelalterMittwoch, 22. April von 15 bis 17 Uhr: FamiliencaféDonnerstag, 23. April von 9:30 bis 11:30 Uhr: Eltern-Kind-Gruppe „Kinderleicht“Freitag, 24. April von 9 bis 10:30 Uhr: Offener Treff\r\nDie Anmeldung ist unter damaris.fleckhammer@bodenseekreis.de möglich. Weitere Informationen gibt es bei Treffleiterin Damaris Fleckhammer unter Tel. 07541 24639.\r\nDie 21 Familientreffs im Bodenseekreis veranstalten jährlich mehr als 100 Vorträge zu familienrelevanten Themen. Alle Informationen, weitere Vorträge und Online-Angebote für Eltern, Familien und Erziehende gibt es unter https://www.bodenseekreis.de/soziales-gesundheit/familie-kinder/familientreffs/ 
LOCATION:Familientreff  Treff 22, 88045 Friedrichshafen
END:VEVENT
END:VCALENDAR