BEGIN:VCALENDAR
VERSION:2.0
PRODID:-//TYPO3/WES Cal (wes_cal)//DE
METHOD:PUBLISH
BEGIN:VEVENT
UID:https://kalender.friedrichshafen.de_41029
DTSTAMP:20260425T193834
DTSTART:20261010T090000
DTEND:20261010T120000
CATEGORIES:Feste, Festivals & Märkte,Märkte
SUMMARY:Fahrradgebrauchtmarkt
DESCRIPTION:Fahrradgebrauchtmarkt in der alten FesthalleZum Verkauf kommen gebrauchte Fahrräder für Kinder und Erwachsene sowie Pedelecs und Fahrrad-Zubehör. Verkäufern von Pedelecs wird empfohlen, ein Leistungsprotokoll des Akkus vorzulegen.\r\nSie möchten ein Fahrrad beim Fahrradgebrauchtmarkt verkaufen?\r\nDie Annahme der Fahrräder ist von 9 Uhr bis 10 Uhr.Überlegen Sie sich im Voraus, wie viel Ihr Fahrrad kosten soll. Dazu hilft es, wenn Sie den Kaufpreis und das Alter des Fahrrades kennen, denn damit lässt sich der Preis schätzen (Grafik zur Bewertung des Verkaufswertes).Das Fahrrad und weitere angebotene Artikel müssen fahrsicher, verkehrstauglich und möglichst geputzt bei uns angeliefert werden.Die Annahmegebühr beträgt 8 EURO bzw. 4 EURO für ADFC-Mitglieder, Kinderräder bis 20 Zoll Reifengröße, BMX-Bikes, Einräder, Kinderfahrzeuge sowie Zubehör sind kostenfrei.Bitte kommen Sie zwischen 11:30 und 12 Uhr zur Auszahlung des Kaufpreises oder zur Abholung nicht verkaufter Fahrräder wieder.\r\nSie möchten beim Fahrradgebrauchtmarkt ein Fahrrad kaufen?\r\nDer Verkauf beginnt um 10 Uhr und endet um 12 Uhr.Interessenten können eine Probefahrt auf dem Parcours machen.Das Reservieren von Rädern ist nicht zulässig, nach einer Probefahrt oder Besichtigung sind die Artikel sofort an der Kasse zu bezahlen oder in den Pool zurück zu stellen.\r\nWichtige Hinweise:\r\nDer Verkauf erfolgt in fremden Namen und auf fremde Rechnung.Der ADFC tritt nur als Vermittler auf und übernimmt für die zum Verkauf stehenden Artikel keinerlei Haftung oder Garantie.Gekauft wie gesehen, spätere Reklamationen sind nicht möglich. Deshalb überprüfen Sie bitte die Artikel vor dem Kauf gründlich.\r\nWährend des Gebrauchtmarktes bietet der ADFC die Möglichkeit, Fahrräder zum Diebstahlschutz codieren zu lassen. Dazu sind ein Eigentums- und ein Identitätsnachweis erforderlich.
LOCATION:Turn- und Festhalle, Scheffelstraße, 88045 Friedrichshafen
END:VEVENT
END:VCALENDAR