BEGIN:VCALENDAR
VERSION:2.0
PRODID:-//TYPO3/WES Cal (wes_cal)//DE
METHOD:PUBLISH
BEGIN:VEVENT
UID:https://kalender.friedrichshafen.de_41036
DTSTAMP:20260424T105220
DTSTART:20261125T200000
CATEGORIES:Kabarett & Comedy,Kabarett & Comedy
SUMMARY:Comedy – Serdar Somuncu "HASSIAS"
DESCRIPTION:Zwei Jahre war Ruhe. Zwei Jahre ohne den Hassias. Zwei Jahre, in denen Moral, Anstand und Empathie schamlos regieren durften. \r\nDoch jetzt ist Schluss mit dem Kuschelkurs – denn er ist zurück. Und er hasst euch noch immer! Serdar Somuncu schlüpft erneut in die Rolle des selbsternannten Oberhaupts der fiktiven Glaubensgemeinschaft "HASSIAS" – eine Sekte des Spottes, ein Kult der Konfrontation. Mit seinem neuen Kabarettprogramm bringt er das auf die Bühne, was niemand hören will, aber alle verdient haben: Hass. Wut. Wahrheit. Ungefiltert. Unter dem bewährten Dogma: "Jede Minderheit hat ein Recht auf Diskriminierung." Ein kabarettistisches Comeback im Zeichen maximaler Zumutung. Intoleranz war nie schöner verpackt. \r\nDer Hassias predigt mit hochgerecktem Mittelfinger, geölter Galle und bibelfester Bosheit gegen das, was sich Zivilisation nennt: Political Correctness, Lifestylelinke, Almans, Gendersternchen, Wohlfühlfeminismus, AfDler, Veganer, Yoga-Moms, Impfgegner – niemand wird verschont, alle werden geliebt. Und zwar gehasst. "Der Hassias ist kein Charakter – er ist eine Notwendigkeit. In einer Welt, in der sich alle gegenseitig in Watte packen, braucht es jemanden, der mit Nägeln schmeißt. Dieses Comeback ist keine Rückkehr – es ist ein Rückfall. Und zwar mit voller Absicht."\r\n(Quelle: Auszug aus dem Pressetext)
LOCATION:Graf-Zeppelin-Haus, 88045 Friedrichshafen
ATTACH:https://kalender.friedrichshafen.de/fileadmin/BENUTZERDATEN/friedrichshafen.de/Veranstaltungen_GZH/2026/2026_11/2026-11-25_Sedar_Somuncu_-_Fotograf-_Fotograf_KBA.jpg
END:VEVENT
END:VCALENDAR