BEGIN:VCALENDAR
VERSION:2.0
PRODID:-//TYPO3/WES Cal (wes_cal)//DE
METHOD:PUBLISH
BEGIN:VEVENT
UID:https://kalender.friedrichshafen.de_42381
DTSTAMP:20260425T150952
DTSTART:20260426T093000
CATEGORIES:Ausstellungen & Vorträge,Feste & Festivals,Kinder & Familie,Kino,Sport & Freizeit,Kino,Ausstellungen & Vorträge,Feste, Festivals & Märkte,Sport & Freizeit,Kinder & Familie
SUMMARY:Benefiz-Frühstück + KINO – Die Eiche mein zuhause
DESCRIPTION:Frühstück + Film (ab 14 Jahre)  zum Tag des Baumes – Der Erlös des Frühstücks + Kino fließt in eine Baumpflanzaktion in Friedrichshafen.\r\nNeben gutem, regionalem Essen steht vor allem Geselligkeit und nette Gespräche im Mittelpunkt. Gemeinsam wollen wir Verbindungen knüpfen, Austausch fördern und unser Miteinander stärken. \r\nMit Eurer Teilnahme helft Ihr, Bäume zu pflanzen und so aktiv zum Klimaschutz und zur Lebensqualität vor Ort beizutragen. Wir freuen uns auf Euch! \r\nEin Spezialangebot für die Frühstücksgäste direkt im Anschluss im Kulturraum Casino:  Film „Die Eiche mein zuhause“  \r\nDie Geschichte erzählt von einer alten Eiche, die vielen Tieren im Wald ein Zuhause bietet. In ihrem Stamm, den Ästen und Blättern finden Eichhörnchen, Vögel und Insekten Schutz und Nahrung. Die Eiche erlebt die Jahreszeiten und schützt die Tiere vor Wind und Regen. So zeigt die Geschichte liebevoll, wie wichtig ein Baum für das ganze Ökosystem ist.Bitte reservieren Sie verbindlich Ihre Teilnahme. Einheitspreis 20 Euro, mit der Bitte um Barzahlung vor Ort.\r\nInfo: Nur der Film auch um 16:00 Uhr, keine Anmeldung notwendig.  nur Frühstück auch möglich, Reservierung notwendig
LOCATION:Spiegelsaal im Kulturhaus Caserne, 88045 Friedrichshafen
ATTACH:https://kalender.friedrichshafen.de/fileadmin/BENUTZERDATEN/friedrichshafen.de/Veranstaltungen/Kulturhaus_Caserne/fruehstueck_benefiz2_1_.jpg
ATTACH:https://kalender.friedrichshafen.de/fileadmin/BENUTZERDATEN/friedrichshafen.de/Veranstaltungen/Kulturhaus_Caserne/Wiederkehrende_Bilder/VA_Kalender_FN_logo_caserne.jpg
END:VEVENT
END:VCALENDAR