BEGIN:VCALENDAR
VERSION:2.0
PRODID:-//TYPO3/WES Cal (wes_cal)//DE
METHOD:PUBLISH
BEGIN:VEVENT
UID:https://kalender.friedrichshafen.de_40855
DTSTAMP:20260422T081259
DTSTART:20260807T140000
DTEND:20260807T153000
CATEGORIES:Führungen,Führungen,Themenführungen,Führungen
SUMMARY:Backstage Führung im Graf-Zeppelin-Haus
DESCRIPTION:Graf-Zeppelin-Haus – das Kultur- und Kongresszentrum direkt am See mit einzigartiger Architektur.\r\nDas GZH ist eine der wichtigsten Kulturstätten in der Bodenseeregion. Tauchen Sie ein in die spannende Bühnenwelt des Hauses und wagen Sie einen exklusiven Blick hinter die Kulissen.\r\nDauer: 90 Min\r\nTermin:Freitag, 7. August um 14 UhrSamstag, 22. August um 10 Uhr\r\nTreffpunkt: Haupteingang Graf-Zeppelin-Haus, Olgastr. 20\r\nDie Teilnahme ist kostenlos.\r\nWichtige Hinweise: Festes Schuhwerk und Schwindelfreiheit werden vorausgesetzt. Die Führung ist nicht barrierefrei.\r\nMit Voranmeldung, max. 15 Teilnehmer.
LOCATION:Graf-Zeppelin-Haus, 88045 Friedrichshafen
ATTACH:https://kalender.friedrichshafen.de/fileadmin/BENUTZERDATEN/friedrichshafen.de/Veranstaltungen/F%C3%BChrungen/Graf-Zeppelin-Haus-Buehne_WEB_12_16_c_Graf-Zeppelin-Haus.jpg
END:VEVENT
END:VCALENDAR