BEGIN:VCALENDAR
VERSION:2.0
PRODID:-//TYPO3/WES Cal (wes_cal)//DE
METHOD:PUBLISH
BEGIN:VEVENT
UID:https://kalender.friedrichshafen.de_42385
DTSTAMP:20260425T193501
DTSTART:20260509T110000
CATEGORIES:Feste & Märkte,Sonstiges,Feste & Festivals,Sonstiges,Feste, Festivals & Märkte,Sonstiges
SUMMARY:Alarmübung am Rathaus in Ailingen der Stadtjugendfeuerwehr
DESCRIPTION:Die Jugendfeuerwehr Ailingen feiert in diesem Jahr ihr 35-jähriges Bestehen. Deshalb lädt sie am Samstag, 9. Mai, 11 Uhr zur großen Alarmübung der Stadtjugendfeuerwehr beim Rathaus in Ailingen ein.\r\nBei der Alarmübung zeigen die jungen Feuerwehrfrauen und Feuerwehrmänner ihr Können, ihr Engagement und ihren Teamgeist. Wer hautnah erleben möchte, wie professionell die Nachwuchsbrandschützerinnen und Nachwuchsbrandschützer agieren, der muss einfach dabei sein.\r\nDie Besucherinnen und Besucher erwartet spannende und eindrucksvolle Übungen, bei denen die Technik, die Einsatzbereitschaft und die Teamarbeit der Jugendlichen gezeigt wird. Für Jung und Alt gibt es jede Menge Feuerwehr-Action zu erleben.
LOCATION:Feuerwehrhaus Ailingen, 88048 Friedrichshafen
END:VEVENT
END:VCALENDAR